Package: Cardinal Version: 3.11.1 Command: /Library/Frameworks/R.framework/Resources/bin/R CMD check --install=check:Cardinal.install-out.txt --library=/Library/Frameworks/R.framework/Resources/library --no-vignettes --timings Cardinal_3.11.1.tar.gz StartedAt: 2025-10-24 20:00:28 -0400 (Fri, 24 Oct 2025) EndedAt: 2025-10-24 20:08:41 -0400 (Fri, 24 Oct 2025) EllapsedTime: 493.3 seconds RetCode: 0 Status: OK CheckDir: Cardinal.Rcheck Warnings: 0