Package: Cardinal Version: 3.11.1 Command: rm -rf Cardinal.buildbin-libdir && mkdir Cardinal.buildbin-libdir && /Users/biocbuild/BBS/utils/build-universal.sh Cardinal_3.11.1.tar.gz /Library/Frameworks/R.framework/Resources/bin/R Cardinal.buildbin-libdir StartedAt: 2025-10-25 01:31:16 -0400 (Sat, 25 Oct 2025) EndedAt: 2025-10-25 01:31:56 -0400 (Sat, 25 Oct 2025) EllapsedTime: 40.3 seconds RetCode: 0 Status: OK PackageFile: Cardinal_3.11.1.tgz PackageFileSize: 6.667 MiB