Package: Cardinal Version: 3.11.0 Command: /Library/Frameworks/R.framework/Resources/bin/R CMD INSTALL Cardinal StartedAt: 2025-10-02 15:07:37 -0400 (Thu, 02 Oct 2025) EndedAt: 2025-10-02 15:07:47 -0400 (Thu, 02 Oct 2025) EllapsedTime: 10.1 seconds RetCode: 0 Status: OK