Package: Cardinal Version: 3.11.0 Command: /Library/Frameworks/R.framework/Resources/bin/R CMD build --keep-empty-dirs --no-resave-data Cardinal StartedAt: 2025-10-02 15:49:44 -0400 (Thu, 02 Oct 2025) EndedAt: 2025-10-02 15:52:15 -0400 (Thu, 02 Oct 2025) EllapsedTime: 151.7 seconds RetCode: 0 Status: OK PackageFile: Cardinal_3.11.0.tar.gz PackageFileSize: 5.15 MiB