Package: CaMutQC Version: 1.5.5 Command: F:\biocbuild\bbs-3.22-bioc\R\bin\R.exe CMD INSTALL CaMutQC StartedAt: 2025-08-14 16:46:34 -0400 (Thu, 14 Aug 2025) EndedAt: 2025-08-14 16:47:20 -0400 (Thu, 14 Aug 2025) EllapsedTime: 45.3 seconds RetCode: 0 Status: OK