Package: CaMutQC Version: 1.5.5 Command: F:\biocbuild\bbs-3.22-bioc\R\bin\R.exe CMD check --no-multiarch --install=check:CaMutQC.install-out.txt --library=F:\biocbuild\bbs-3.22-bioc\R\library --no-vignettes --timings CaMutQC_1.5.5.tar.gz StartedAt: 2025-08-15 01:18:26 -0400 (Fri, 15 Aug 2025) EndedAt: 2025-08-15 01:22:41 -0400 (Fri, 15 Aug 2025) EllapsedTime: 255.0 seconds RetCode: 0 Status: OK CheckDir: CaMutQC.Rcheck Warnings: 0