Package: CaMutQC Version: 1.5.5 Command: chmod a+r CaMutQC -R && F:\biocbuild\bbs-3.22-bioc\R\bin\R.exe CMD build --keep-empty-dirs --no-resave-data CaMutQC StartedAt: 2025-08-14 18:54:05 -0400 (Thu, 14 Aug 2025) EndedAt: 2025-08-14 18:55:37 -0400 (Thu, 14 Aug 2025) EllapsedTime: 92.3 seconds RetCode: 0 Status: OK PackageFile: CaMutQC_1.5.5.tar.gz PackageFileSize: 5.311 MiB