Package: CaMutQC Version: 1.5.5 Command: /Library/Frameworks/R.framework/Resources/bin/R CMD INSTALL CaMutQC StartedAt: 2025-10-19 15:43:28 -0400 (Sun, 19 Oct 2025) EndedAt: 2025-10-19 15:44:09 -0400 (Sun, 19 Oct 2025) EllapsedTime: 41.3 seconds RetCode: 0 Status: OK