Package: CaMutQC Version: 1.5.5 Command: /Library/Frameworks/R.framework/Resources/bin/R CMD check --install=check:CaMutQC.install-out.txt --library=/Library/Frameworks/R.framework/Resources/library --no-vignettes --timings CaMutQC_1.5.5.tar.gz StartedAt: 2025-10-19 20:51:57 -0400 (Sun, 19 Oct 2025) EndedAt: 2025-10-19 20:56:13 -0400 (Sun, 19 Oct 2025) EllapsedTime: 255.4 seconds RetCode: 0 Status: OK CheckDir: CaMutQC.Rcheck Warnings: 0