Package: CaMutQC Version: 1.5.5 Command: rm -rf CaMutQC.buildbin-libdir && mkdir CaMutQC.buildbin-libdir && /Users/biocbuild/BBS/utils/build-universal.sh CaMutQC_1.5.5.tar.gz /Library/Frameworks/R.framework/Resources/bin/R CaMutQC.buildbin-libdir StartedAt: 2025-10-20 02:59:49 -0400 (Mon, 20 Oct 2025) EndedAt: 2025-10-20 03:00:34 -0400 (Mon, 20 Oct 2025) EllapsedTime: 45.1 seconds RetCode: 0 Status: OK PackageFile: CaMutQC_1.5.5.tgz PackageFileSize: 4.584 MiB