Package: CaMutQC Version: 1.5.6 Command: /Library/Frameworks/R.framework/Resources/bin/R CMD INSTALL CaMutQC StartedAt: 2025-10-22 15:26:28 -0400 (Wed, 22 Oct 2025) EndedAt: 2025-10-22 15:26:40 -0400 (Wed, 22 Oct 2025) EllapsedTime: 12.0 seconds RetCode: 0 Status: OK