Package: CaMutQC Version: 1.5.6 Command: /Library/Frameworks/R.framework/Resources/bin/R CMD build --keep-empty-dirs --no-resave-data CaMutQC StartedAt: 2025-10-22 15:50:13 -0400 (Wed, 22 Oct 2025) EndedAt: 2025-10-22 15:50:41 -0400 (Wed, 22 Oct 2025) EllapsedTime: 28.3 seconds RetCode: 0 Status: OK PackageFile: CaMutQC_1.5.6.tar.gz PackageFileSize: 5.311 MiB