Package: CaMutQC Version: 1.5.6 Command: rm -rf CaMutQC.buildbin-libdir && mkdir CaMutQC.buildbin-libdir && /Users/biocbuild/BBS/utils/build-universal.sh CaMutQC_1.5.6.tar.gz /Library/Frameworks/R.framework/Resources/bin/R CaMutQC.buildbin-libdir StartedAt: 2025-10-22 22:54:03 -0400 (Wed, 22 Oct 2025) EndedAt: 2025-10-22 22:54:17 -0400 (Wed, 22 Oct 2025) EllapsedTime: 13.2 seconds RetCode: 0 Status: OK PackageFile: CaMutQC_1.5.6.tgz PackageFileSize: 4.585 MiB