Package: CaDrA Version: 1.7.0 Command: /Library/Frameworks/R.framework/Resources/bin/R CMD check --install=check:CaDrA.install-out.txt --library=/Library/Frameworks/R.framework/Resources/library --no-vignettes --timings CaDrA_1.7.0.tar.gz StartedAt: 2025-10-16 18:46:53 -0400 (Thu, 16 Oct 2025) EndedAt: 2025-10-16 18:49:23 -0400 (Thu, 16 Oct 2025) EllapsedTime: 149.7 seconds RetCode: 0 Status: OK CheckDir: CaDrA.Rcheck Warnings: 0