Package: CTexploreR Version: 1.5.2 Command: /home/biocbuild/R/R/bin/R CMD build --keep-empty-dirs --no-resave-data CTexploreR StartedAt: 2025-10-20 23:04:40 -0000 (Mon, 20 Oct 2025) EndedAt: 2025-10-20 23:18:12 -0000 (Mon, 20 Oct 2025) EllapsedTime: 812.4 seconds RetCode: 0 Status: OK PackageFile: CTexploreR_1.5.2.tar.gz PackageFileSize: 4.459 MiB