Package: CTSV Version: 1.11.0 Command: /home/biocbuild/R/R/bin/R CMD check --install=check:CTSV.install-out.txt --library=/home/biocbuild/R/R/site-library --no-vignettes --timings CTSV_1.11.0.tar.gz StartedAt: 2025-10-10 07:41:42 -0000 (Fri, 10 Oct 2025) EndedAt: 2025-10-10 07:46:08 -0000 (Fri, 10 Oct 2025) EllapsedTime: 266.1 seconds RetCode: 0 Status: OK CheckDir: CTSV.Rcheck Warnings: 0