Package: CTSV Version: 1.11.0 Command: /home/biocbuild/R/R/bin/R CMD build --keep-empty-dirs --no-resave-data CTSV StartedAt: 2025-10-09 23:53:45 -0000 (Thu, 09 Oct 2025) EndedAt: 2025-10-09 23:54:48 -0000 (Thu, 09 Oct 2025) EllapsedTime: 63.0 seconds RetCode: 0 Status: OK PackageFile: CTSV_1.11.0.tar.gz PackageFileSize: 371.2 KiB