Package: CTSV Version: 1.11.0 Command: /home/biocbuild/bbs-3.22-bioc/R/bin/R CMD build --keep-empty-dirs --no-resave-data --md5 CTSV StartedAt: 2025-10-02 17:06:15 -0400 (Thu, 02 Oct 2025) EndedAt: 2025-10-02 17:07:03 -0400 (Thu, 02 Oct 2025) EllapsedTime: 48.0 seconds RetCode: 0 Status: OK PackageFile: CTSV_1.11.0.tar.gz PackageFileSize: 303.9 KiB