Package: CTSV Version: 1.11.0 Command: /Library/Frameworks/R.framework/Resources/bin/R CMD INSTALL CTSV StartedAt: 2025-10-10 15:27:01 -0400 (Fri, 10 Oct 2025) EndedAt: 2025-10-10 15:27:36 -0400 (Fri, 10 Oct 2025) EllapsedTime: 35.1 seconds RetCode: 0 Status: OK