Package: CTSV Version: 1.11.0 Command: /Library/Frameworks/R.framework/Resources/bin/R CMD build --keep-empty-dirs --no-resave-data CTSV StartedAt: 2025-10-10 16:43:48 -0400 (Fri, 10 Oct 2025) EndedAt: 2025-10-10 16:45:07 -0400 (Fri, 10 Oct 2025) EllapsedTime: 79.1 seconds RetCode: 0 Status: OK PackageFile: CTSV_1.11.0.tar.gz PackageFileSize: 303.3 KiB