Package: CTSV Version: 1.11.0 Command: rm -rf CTSV.buildbin-libdir && mkdir CTSV.buildbin-libdir && /Users/biocbuild/BBS/utils/build-universal.sh CTSV_1.11.0.tar.gz /Library/Frameworks/R.framework/Resources/bin/R CTSV.buildbin-libdir StartedAt: 2025-10-10 22:37:44 -0400 (Fri, 10 Oct 2025) EndedAt: 2025-10-10 22:37:57 -0400 (Fri, 10 Oct 2025) EllapsedTime: 12.3 seconds RetCode: 0 Status: OK PackageFile: CTSV_1.11.0.tgz PackageFileSize: 321.1 KiB