Package: CTDquerier Version: 2.18.0 Command: /Library/Frameworks/R.framework/Resources/bin/R CMD INSTALL CTDquerier StartedAt: 2025-11-17 18:36:05 -0500 (Mon, 17 Nov 2025) EndedAt: 2025-11-17 18:36:25 -0500 (Mon, 17 Nov 2025) EllapsedTime: 19.9 seconds RetCode: 0 Status: OK