Package: CTDquerier Version: 2.18.0 Command: /Library/Frameworks/R.framework/Resources/bin/R CMD check --install=check:CTDquerier.install-out.txt --library=/Library/Frameworks/R.framework/Resources/library --no-vignettes --timings CTDquerier_2.18.0.tar.gz StartedAt: 2025-11-21 03:31:19 -0500 (Fri, 21 Nov 2025) EndedAt: 2025-11-21 03:34:26 -0500 (Fri, 21 Nov 2025) EllapsedTime: 187.1 seconds RetCode: 0 Status: WARNINGS CheckDir: CTDquerier.Rcheck Warnings: 1