Package: CTDquerier Version: 2.18.0 Command: rm -rf CTDquerier.buildbin-libdir && mkdir CTDquerier.buildbin-libdir && /Users/biocbuild/BBS/utils/build-universal.sh CTDquerier_2.18.0.tar.gz /Library/Frameworks/R.framework/Resources/bin/R CTDquerier.buildbin-libdir StartedAt: 2025-11-18 17:28:00 -0500 (Tue, 18 Nov 2025) EndedAt: 2025-11-18 17:28:19 -0500 (Tue, 18 Nov 2025) EllapsedTime: 19.2 seconds RetCode: 0 Status: OK PackageFile: CTDquerier_2.18.0.tgz PackageFileSize: 2.717 MiB