Package: CTDquerier Version: 2.18.0 Command: /Library/Frameworks/R.framework/Resources/bin/R CMD check --install=check:CTDquerier.install-out.txt --library=/Library/Frameworks/R.framework/Resources/library --no-vignettes --timings CTDquerier_2.18.0.tar.gz StartedAt: 2025-11-18 04:52:58 -0500 (Tue, 18 Nov 2025) EndedAt: 2025-11-18 04:54:02 -0500 (Tue, 18 Nov 2025) EllapsedTime: 64.6 seconds RetCode: 0 Status: WARNINGS CheckDir: CTDquerier.Rcheck Warnings: 1