Package: CSOA Version: 1.0.0 Command: /home/biocbuild/R/R/bin/R CMD INSTALL CSOA StartedAt: 2025-11-13 21:24:12 -0000 (Thu, 13 Nov 2025) EndedAt: 2025-11-13 21:25:01 -0000 (Thu, 13 Nov 2025) EllapsedTime: 49.3 seconds RetCode: 0 Status: OK