Package: CSAR Version: 1.61.1 Command: F:\biocbuild\bbs-3.22-bioc\R\bin\R.exe CMD check --no-multiarch --install=check:CSAR.install-out.txt --library=F:\biocbuild\bbs-3.22-bioc\R\library --no-vignettes --timings CSAR_1.61.1.tar.gz StartedAt: 2025-08-15 02:06:28 -0400 (Fri, 15 Aug 2025) EndedAt: 2025-08-15 02:09:24 -0400 (Fri, 15 Aug 2025) EllapsedTime: 176.5 seconds RetCode: 0 Status: OK CheckDir: CSAR.Rcheck Warnings: 0