Package: CRISPRball Version: 1.5.0 Command: rm -rf CRISPRball.buildbin-libdir && mkdir CRISPRball.buildbin-libdir && F:\biocbuild\bbs-3.22-bioc\R\bin\R.exe CMD INSTALL --build --library=CRISPRball.buildbin-libdir CRISPRball_1.5.0.tar.gz StartedAt: 2025-08-15 10:02:34 -0400 (Fri, 15 Aug 2025) EndedAt: 2025-08-15 10:03:51 -0400 (Fri, 15 Aug 2025) EllapsedTime: 77.4 seconds RetCode: 0 Status: OK PackageFile: CRISPRball_1.5.0.zip PackageFileSize: 2.296 MiB