Package: CRISPRball Version: 1.5.0 Command: /Library/Frameworks/R.framework/Resources/bin/R CMD check --install=check:CRISPRball.install-out.txt --library=/Library/Frameworks/R.framework/Resources/library --no-vignettes --timings CRISPRball_1.5.0.tar.gz StartedAt: 2025-10-20 19:07:27 -0400 (Mon, 20 Oct 2025) EndedAt: 2025-10-20 19:09:22 -0400 (Mon, 20 Oct 2025) EllapsedTime: 115.3 seconds RetCode: 0 Status: OK CheckDir: CRISPRball.Rcheck Warnings: 0