Package: CPSM Version: 1.1.4 Command: /home/biocbuild/R/R/bin/R CMD INSTALL CPSM StartedAt: 2025-10-16 21:51:06 -0000 (Thu, 16 Oct 2025) EndedAt: 2025-10-16 21:51:48 -0000 (Thu, 16 Oct 2025) EllapsedTime: 41.7 seconds RetCode: 0 Status: OK