Package: CPSM Version: 1.1.4 Command: /home/biocbuild/R/R/bin/R CMD check --install=check:CPSM.install-out.txt --library=/home/biocbuild/R/R/site-library --no-vignettes --timings CPSM_1.1.4.tar.gz StartedAt: 2025-10-17 07:39:59 -0000 (Fri, 17 Oct 2025) EndedAt: 2025-10-17 07:47:37 -0000 (Fri, 17 Oct 2025) EllapsedTime: 458.3 seconds RetCode: 0 Status: OK CheckDir: CPSM.Rcheck Warnings: 0