Package: CPSM Version: 1.1.4 Command: /home/biocbuild/R/R/bin/R CMD build --keep-empty-dirs --no-resave-data CPSM StartedAt: 2025-10-20 22:59:19 -0000 (Mon, 20 Oct 2025) EndedAt: 2025-10-20 23:03:41 -0000 (Mon, 20 Oct 2025) EllapsedTime: 262.1 seconds RetCode: 0 Status: OK PackageFile: CPSM_1.1.4.tar.gz PackageFileSize: 3.871 MiB