Package: CPSM Version: 1.1.4 Command: /Library/Frameworks/R.framework/Resources/bin/R CMD INSTALL CPSM StartedAt: 2025-10-20 15:31:37 -0400 (Mon, 20 Oct 2025) EndedAt: 2025-10-20 15:32:21 -0400 (Mon, 20 Oct 2025) EllapsedTime: 44.3 seconds RetCode: 0 Status: OK