Package: CPSM Version: 1.1.4 Command: /Library/Frameworks/R.framework/Resources/bin/R CMD INSTALL CPSM StartedAt: 2025-10-19 15:18:32 -0400 (Sun, 19 Oct 2025) EndedAt: 2025-10-19 15:18:45 -0400 (Sun, 19 Oct 2025) EllapsedTime: 13.0 seconds RetCode: 0 Status: OK