Package: CPSM Version: 1.1.4 Command: /Library/Frameworks/R.framework/Resources/bin/R CMD check --install=check:CPSM.install-out.txt --library=/Library/Frameworks/R.framework/Resources/library --no-vignettes --timings CPSM_1.1.4.tar.gz StartedAt: 2025-10-19 19:06:04 -0400 (Sun, 19 Oct 2025) EndedAt: 2025-10-19 19:08:19 -0400 (Sun, 19 Oct 2025) EllapsedTime: 134.5 seconds RetCode: 0 Status: OK CheckDir: CPSM.Rcheck Warnings: 0