Package: CPSM Version: 1.1.4 Command: /Library/Frameworks/R.framework/Resources/bin/R CMD build --keep-empty-dirs --no-resave-data CPSM StartedAt: 2025-10-19 16:02:00 -0400 (Sun, 19 Oct 2025) EndedAt: 2025-10-19 16:02:55 -0400 (Sun, 19 Oct 2025) EllapsedTime: 55.6 seconds RetCode: 0 Status: OK PackageFile: CPSM_1.1.4.tar.gz PackageFileSize: 4.315 MiB