Package: CPSM Version: 1.1.4 Command: rm -rf CPSM.buildbin-libdir && mkdir CPSM.buildbin-libdir && /Users/biocbuild/BBS/utils/build-universal.sh CPSM_1.1.4.tar.gz /Library/Frameworks/R.framework/Resources/bin/R CPSM.buildbin-libdir StartedAt: 2025-10-19 22:55:42 -0400 (Sun, 19 Oct 2025) EndedAt: 2025-10-19 22:55:56 -0400 (Sun, 19 Oct 2025) EllapsedTime: 14.3 seconds RetCode: 0 Status: OK PackageFile: CPSM_1.1.4.tgz PackageFileSize: 4.785 MiB