Package: COTAN Version: 2.9.6 Command: /Library/Frameworks/R.framework/Resources/bin/R CMD build --keep-empty-dirs --no-resave-data COTAN StartedAt: 2025-10-01 16:31:20 -0400 (Wed, 01 Oct 2025) EndedAt: 2025-10-01 16:43:40 -0400 (Wed, 01 Oct 2025) EllapsedTime: 740.3 seconds RetCode: 0 Status: OK PackageFile: COTAN_2.9.6.tar.gz PackageFileSize: 3.935 MiB