Package: COSNet Version: 1.43.0 Command: F:\biocbuild\bbs-3.22-bioc\R\bin\R.exe CMD check --no-multiarch --install=check:COSNet.install-out.txt --library=F:\biocbuild\bbs-3.22-bioc\R\library --no-vignettes --timings COSNet_1.43.0.tar.gz StartedAt: 2025-08-15 02:00:06 -0400 (Fri, 15 Aug 2025) EndedAt: 2025-08-15 02:01:04 -0400 (Fri, 15 Aug 2025) EllapsedTime: 57.0 seconds RetCode: 0 Status: WARNINGS CheckDir: COSNet.Rcheck Warnings: 1