Package: COSNet Version: 1.43.0 Command: /Library/Frameworks/R.framework/Resources/bin/R CMD INSTALL COSNet StartedAt: 2025-10-19 15:11:03 -0400 (Sun, 19 Oct 2025) EndedAt: 2025-10-19 15:11:44 -0400 (Sun, 19 Oct 2025) EllapsedTime: 41.6 seconds RetCode: 0 Status: OK