Package: COSNet Version: 1.43.0 Command: /Library/Frameworks/R.framework/Resources/bin/R CMD build --keep-empty-dirs --no-resave-data COSNet StartedAt: 2025-10-19 16:01:25 -0400 (Sun, 19 Oct 2025) EndedAt: 2025-10-19 16:05:24 -0400 (Sun, 19 Oct 2025) EllapsedTime: 238.6 seconds RetCode: 0 Status: OK PackageFile: COSNet_1.43.0.tar.gz PackageFileSize: 519.9 KiB