Package: COSNet Version: 1.43.0 Command: rm -rf COSNet.buildbin-libdir && mkdir COSNet.buildbin-libdir && /Users/biocbuild/BBS/utils/build-universal.sh COSNet_1.43.0.tar.gz /Library/Frameworks/R.framework/Resources/bin/R COSNet.buildbin-libdir StartedAt: 2025-10-19 22:55:34 -0400 (Sun, 19 Oct 2025) EndedAt: 2025-10-19 22:55:36 -0400 (Sun, 19 Oct 2025) EllapsedTime: 2.0 seconds RetCode: 0 Status: OK PackageFile: COSNet_1.43.0.tgz PackageFileSize: 561.2 KiB