Package: CONSTANd Version: 1.17.0 Command: /home/biocbuild/R/R/bin/R CMD build --keep-empty-dirs --no-resave-data CONSTANd StartedAt: 2025-10-06 22:49:55 -0000 (Mon, 06 Oct 2025) EndedAt: 2025-10-06 22:50:09 -0000 (Mon, 06 Oct 2025) EllapsedTime: 14.0 seconds RetCode: 0 Status: OK PackageFile: CONSTANd_1.17.0.tar.gz PackageFileSize: 1.433 MiB