Package: CONFESS Version: 1.37.0 Command: /home/biocbuild/bbs-3.22-bioc/R/bin/R CMD build --keep-empty-dirs --no-resave-data --md5 CONFESS StartedAt: 2025-10-20 16:55:35 -0400 (Mon, 20 Oct 2025) EndedAt: 2025-10-20 16:58:19 -0400 (Mon, 20 Oct 2025) EllapsedTime: 164.1 seconds RetCode: 0 Status: OK PackageFile: CONFESS_1.37.0.tar.gz PackageFileSize: 3.592 MiB