Package: CONFESS Version: 1.37.0 Command: /Library/Frameworks/R.framework/Resources/bin/R CMD INSTALL CONFESS StartedAt: 2025-10-21 15:50:08 -0400 (Tue, 21 Oct 2025) EndedAt: 2025-10-21 15:51:42 -0400 (Tue, 21 Oct 2025) EllapsedTime: 93.4 seconds RetCode: 0 Status: OK