Package: CONFESS Version: 1.37.0 Command: /Library/Frameworks/R.framework/Resources/bin/R CMD build --keep-empty-dirs --no-resave-data CONFESS StartedAt: 2025-10-21 16:37:56 -0400 (Tue, 21 Oct 2025) EndedAt: 2025-10-21 16:42:39 -0400 (Tue, 21 Oct 2025) EllapsedTime: 283.7 seconds RetCode: 0 Status: OK PackageFile: CONFESS_1.37.0.tar.gz PackageFileSize: 3.587 MiB