Package: COCOA Version: 2.23.1 Command: F:\biocbuild\bbs-3.22-bioc\R\bin\R.exe CMD check --no-multiarch --install=check:COCOA.install-out.txt --library=F:\biocbuild\bbs-3.22-bioc\R\library --no-vignettes --timings COCOA_2.23.1.tar.gz StartedAt: 2025-08-15 01:49:42 -0400 (Fri, 15 Aug 2025) EndedAt: 2025-08-15 01:56:03 -0400 (Fri, 15 Aug 2025) EllapsedTime: 381.2 seconds RetCode: 0 Status: OK CheckDir: COCOA.Rcheck Warnings: 0