Package: COCOA Version: 2.23.1 Command: /Library/Frameworks/R.framework/Resources/bin/R CMD INSTALL COCOA StartedAt: 2025-10-21 15:35:22 -0400 (Tue, 21 Oct 2025) EndedAt: 2025-10-21 15:36:23 -0400 (Tue, 21 Oct 2025) EllapsedTime: 60.4 seconds RetCode: 0 Status: OK