Package: COCOA Version: 2.23.1 Command: rm -rf COCOA.buildbin-libdir && mkdir COCOA.buildbin-libdir && /Users/biocbuild/BBS/utils/build-universal.sh COCOA_2.23.1.tar.gz /Library/Frameworks/R.framework/Resources/bin/R COCOA.buildbin-libdir StartedAt: 2025-10-22 02:18:41 -0400 (Wed, 22 Oct 2025) EndedAt: 2025-10-22 02:19:44 -0400 (Wed, 22 Oct 2025) EllapsedTime: 62.6 seconds RetCode: 0 Status: OK PackageFile: COCOA_2.23.1.tgz PackageFileSize: 3.562 MiB