Package: CNViz Version: 1.17.0 Command: /home/biocbuild/R/R/bin/R CMD check --install=check:CNViz.install-out.txt --library=/home/biocbuild/R/R/site-library --no-vignettes --timings CNViz_1.17.0.tar.gz StartedAt: 2025-10-17 07:27:31 -0000 (Fri, 17 Oct 2025) EndedAt: 2025-10-17 07:33:56 -0000 (Fri, 17 Oct 2025) EllapsedTime: 385.3 seconds RetCode: 0 Status: OK CheckDir: CNViz.Rcheck Warnings: 0